BEGIN:VCALENDAR
VERSION:2.0
PRODID:-//Tukios.com/
BEGIN:VEVENT
UID:e587c3c6-5a3a-44b5-9dac-f1ba10a0eddb@www.schoenebergerfuneralhome.com
DTSTAMP:20260424T001311Z
DTSTART:20260507T160000Z
DTEND:20260507T170000Z
SUMMARY:Memorial Mass
DESCRIPTION:
URL:https://www.schoenebergerfuneralhome.com/obituaries/doris-ehlert
LOCATION: 234 2nd Ave SW  Perham MN 56573
GEO:46.593419;-95.575776
END:VEVENT
END:VCALENDAR