BEGIN:VCALENDAR
VERSION:2.0
PRODID:-//Tukios.com/
BEGIN:VEVENT
UID:c321c2c9-4454-4b54-9c2d-813699e616a6@www.schoenebergerfuneralhome.com
DTSTAMP:20260424T001039Z
DTSTART:20260507T150000Z
DTEND:20260507T160000Z
SUMMARY:Visitation
DESCRIPTION:
URL:https://www.schoenebergerfuneralhome.com/obituaries/doris-ehlert
LOCATION: 234 2nd Ave SW  Perham MN 56573
GEO:46.593419;-95.575776
END:VEVENT
END:VCALENDAR