BEGIN:VCALENDAR
VERSION:2.0
PRODID:-//Tukios.com/
BEGIN:VEVENT
UID:04b4a7e1-3ec5-4170-bbe1-e8bedc0008c4@www.schoenebergerfuneralhome.com
DTSTAMP:20260421T041240Z
DTSTART:20260516T180000Z
DTEND:20260516T210000Z
SUMMARY:Life Celebration Service
DESCRIPTION:
URL:https://www.schoenebergerfuneralhome.com/obituaries/mary-paulson
LOCATION:Dent Community Center 201 Birch St  Dent MN 56528
GEO:46.5557594;-95.7199587
END:VEVENT
END:VCALENDAR